BEGIN:VCALENDAR
VERSION:2.0
PRODID:-//tahlequahhabitat.org//NONSGML kigkonsult.se iCalcreator 2.30.10//
CALSCALE:GREGORIAN
METHOD:PUBLISH
UID:27f101da-f090-46ca-af90-36a8bd603eb5
X-WR-CALDESC:
X-WR-RELCALID:318bc548273b1ef16c6f5abb272909da
X-WR-TIMEZONE:America/Chicago
BEGIN:VTIMEZONE
TZID:America/Chicago
BEGIN:STANDARD
TZNAME:CST
DTSTART:20171105T020000
TZOFFSETFROM:-0500
TZOFFSETTO:-0600
RDATE:20181104T020000
END:STANDARD
BEGIN:DAYLIGHT
TZNAME:CDT
DTSTART:20170312T020000
TZOFFSETFROM:-0600
TZOFFSETTO:-0500
RDATE:20180311T020000
RDATE:20190310T020000
END:DAYLIGHT
END:VTIMEZONE
BEGIN:VEVENT
UID:6061febb-cd85-4387-8290-ddba60d735b3
DTSTAMP:20260424T233246Z
DESCRIPTION:
DTSTART;TZID=America/Chicago:20171124T000000
DTEND;TZID=America/Chicago:20171125T235900
LOCATION:
SUMMARY:1/2 Price Black Friday Sale at both Restore and Rack
END:VEVENT
END:VCALENDAR
