BEGIN:VCALENDAR
VERSION:2.0
PRODID:-//tahlequahhabitat.org//NONSGML kigkonsult.se iCalcreator 2.30.10//
CALSCALE:GREGORIAN
METHOD:PUBLISH
UID:bce58c56-234f-40fd-8568-956da6424929
X-WR-CALDESC:TAHFH is partnering with the national Giving Tuesday movement\
 , which is an opportunity to start your holiday season with the spirit of 
 giving.  On Tuesday\, November 28\, 2017\, charities around the world will
  come together for one common purpose: to embrace generosity and to give. 
  With your Giving Tuesday donation to Tahlequah Area Habitat for Humanity\
 , you will help local families in need to live in simple\, affordable hous
 ing.  Help give a family in need a bright future by donating today at the 
 link below:
X-WR-RELCALID:c4b2e44f114fc2867ec793e809fe0934
X-WR-TIMEZONE:America/Chicago
BEGIN:VTIMEZONE
TZID:America/Chicago
BEGIN:STANDARD
TZNAME:CST
DTSTART:20171105T020000
TZOFFSETFROM:-0500
TZOFFSETTO:-0600
RDATE:20181104T020000
END:STANDARD
BEGIN:DAYLIGHT
TZNAME:CDT
DTSTART:20170312T020000
TZOFFSETFROM:-0600
TZOFFSETTO:-0500
RDATE:20180311T020000
RDATE:20190310T020000
END:DAYLIGHT
END:VTIMEZONE
BEGIN:VEVENT
UID:38b313d3-f620-4bce-b7e0-6bd5eef18dfa
DTSTAMP:20260424T233127Z
DESCRIPTION:TAHFH is partnering with the national Giving Tuesday movement\,
  which is an opportunity to start your holiday season with the spirit of g
 iving.  On Tuesday\, November 28\, 2017\, charities around the world will 
 come together for one common purpose: to embrace generosity and to give.  
 With your Giving Tuesday donation to Tahlequah Area Habitat for Humanity\,
  you will help local families in need to live in simple\, affordable housi
 ng.  Help give a family in need a bright future by donating today at the l
 ink below:
DTSTART;TZID=America/Chicago:20171128T000000
DTEND;TZID=America/Chicago:20171128T235900
LOCATION:
SUMMARY:Giving Tuesday
END:VEVENT
END:VCALENDAR
