BEGIN:VCALENDAR
VERSION:2.0
PRODID:-//tahlequahhabitat.org//NONSGML kigkonsult.se iCalcreator 2.30.10//
CALSCALE:GREGORIAN
METHOD:PUBLISH
UID:42156d89-7c5d-49b4-9d1d-d0d299aa373c
X-WR-CALDESC:Tahlequah Area Habitat for Humanity will be holding a huge Sto
 rage Building Sale from 10 a.m. to 2 p.m. on Saturday\, December 2\, 2017.
   The sale will take place at Access Storage\, 1060 North Heritage Lane (n
 ext to Green Country Cinemas).  Come out to Access Storage for the best de
 als on:\n\nOffice Furniture\nDesks\nCabinets\nChairs\nTrays\nWall Sconces
 \nFloor Lamps\nHeadboards\nCredenzas\nTV Stands\nArmoires\nHide-a-Beds\nNi
 ght Stands\nFramed Art\nAC Filters\nOffice Supplies\nAND MORE!
X-WR-RELCALID:01edb2916af71bfbc122bfb7f6b91a03
X-WR-TIMEZONE:America/Chicago
BEGIN:VTIMEZONE
TZID:America/Chicago
BEGIN:STANDARD
TZNAME:CST
DTSTART:20171105T020000
TZOFFSETFROM:-0500
TZOFFSETTO:-0600
RDATE:20181104T020000
END:STANDARD
BEGIN:DAYLIGHT
TZNAME:CDT
DTSTART:20170312T020000
TZOFFSETFROM:-0600
TZOFFSETTO:-0500
RDATE:20180311T020000
RDATE:20190310T020000
END:DAYLIGHT
END:VTIMEZONE
BEGIN:VEVENT
UID:f9ad7220-fd0b-46a6-b4f5-d6fe88a06b56
DTSTAMP:20260424T212111Z
DESCRIPTION:Tahlequah Area Habitat for Humanity will be holding a huge Stor
 age Building Sale from 10 a.m. to 2 p.m. on Saturday\, December 2\, 2017. 
  The sale will take place at Access Storage\, 1060 North Heritage Lane (ne
 xt to Green Country Cinemas).  Come out to Access Storage for the best dea
 ls on:\n\nOffice Furniture\nDesks\nCabinets\nChairs\nTrays\nWall Sconces\n
 Floor Lamps\nHeadboards\nCredenzas\nTV Stands\nArmoires\nHide-a-Beds\nNigh
 t Stands\nFramed Art\nAC Filters\nOffice Supplies\nAND MORE!
DTSTART;TZID=America/Chicago:20171202T100000
DTEND;TZID=America/Chicago:20171202T150000
LOCATION:
SUMMARY:Storage Building Sale
END:VEVENT
END:VCALENDAR
