BEGIN:VCALENDAR
VERSION:2.0
PRODID:-//tahlequahhabitat.org//NONSGML kigkonsult.se iCalcreator 2.30.10//
CALSCALE:GREGORIAN
METHOD:PUBLISH
UID:647ab9c8-9c09-442a-9062-65f37c005c0a
X-WR-CALDESC:
X-WR-RELCALID:27a7694434ebd634d97a43ed00b24f72
X-WR-TIMEZONE:America/Chicago
BEGIN:VTIMEZONE
TZID:America/Chicago
BEGIN:STANDARD
TZNAME:CST
DTSTART:20171105T020000
TZOFFSETFROM:-0500
TZOFFSETTO:-0600
RDATE:20181104T020000
END:STANDARD
BEGIN:DAYLIGHT
TZNAME:CDT
DTSTART:20170312T020000
TZOFFSETFROM:-0600
TZOFFSETTO:-0500
RDATE:20180311T020000
RDATE:20190310T020000
END:DAYLIGHT
END:VTIMEZONE
BEGIN:VEVENT
UID:e7451139-06ae-4c9e-b256-308b18240f55
DTSTAMP:20260424T175459Z
DESCRIPTION:
DTSTART;TZID=America/Chicago:20180221T000000
DTEND;TZID=America/Chicago:20180221T235900
LOCATION:
SUMMARY:Construction on House #25 Begins Today
END:VEVENT
END:VCALENDAR
