BEGIN:VCALENDAR
VERSION:2.0
PRODID:-//tahlequahhabitat.org//NONSGML kigkonsult.se iCalcreator 2.30.10//
CALSCALE:GREGORIAN
METHOD:PUBLISH
UID:80ec606a-4eda-49c2-8cd1-74962dfbb8f1
X-WR-CALDESC:
X-WR-RELCALID:7c0c125408abbce5a8ad6e5419854989
X-WR-TIMEZONE:America/Chicago
BEGIN:VTIMEZONE
TZID:America/Chicago
BEGIN:STANDARD
TZNAME:CST
DTSTART:20171105T020000
TZOFFSETFROM:-0500
TZOFFSETTO:-0600
RDATE:20181104T020000
END:STANDARD
BEGIN:DAYLIGHT
TZNAME:CDT
DTSTART:20170312T020000
TZOFFSETFROM:-0600
TZOFFSETTO:-0500
RDATE:20180311T020000
RDATE:20190310T020000
END:DAYLIGHT
END:VTIMEZONE
BEGIN:VEVENT
UID:d8505bf9-9d74-4268-9ba6-230b0e30d4fb
DTSTAMP:20260424T160846Z
DESCRIPTION:
DTSTART;TZID=America/Chicago:20180312T000000
DTEND;TZID=America/Chicago:20180312T235900
LOCATION:
SUMMARY:Shop AmazonSmile for 3x Your Donation Rate\, From March 12-31
END:VEVENT
END:VCALENDAR
