BEGIN:VCALENDAR
VERSION:2.0
PRODID:-//tahlequahhabitat.org//NONSGML kigkonsult.se iCalcreator 2.30.10//
CALSCALE:GREGORIAN
METHOD:PUBLISH
UID:42e34e20-40de-4431-bc8e-5d77f9f74b5a
X-WR-CALDESC:
X-WR-RELCALID:5c67194284e3e12d6ba4ae35e5854f56
X-WR-TIMEZONE:America/Chicago
BEGIN:VTIMEZONE
TZID:America/Chicago
BEGIN:STANDARD
TZNAME:CST
DTSTART:20171105T020000
TZOFFSETFROM:-0500
TZOFFSETTO:-0600
RDATE:20181104T020000
END:STANDARD
BEGIN:DAYLIGHT
TZNAME:CDT
DTSTART:20180311T020000
TZOFFSETFROM:-0600
TZOFFSETTO:-0500
RDATE:20190310T020000
END:DAYLIGHT
END:VTIMEZONE
BEGIN:VEVENT
UID:797acc98-4e7f-4027-9d89-12450aaba34b
DTSTAMP:20260424T135337Z
DESCRIPTION:
DTSTART;TZID=America/Chicago:20180420T180000
DTEND;TZID=America/Chicago:20180420T200000
LOCATION:
SUMMARY:Tahlequah's Got Talent\, NSU Webb Auditorium
END:VEVENT
END:VCALENDAR
