BEGIN:VCALENDAR
VERSION:2.0
PRODID:-//tahlequahhabitat.org//NONSGML kigkonsult.se iCalcreator 2.30.10//
CALSCALE:GREGORIAN
METHOD:PUBLISH
UID:dd1261d1-9f8d-4ca7-ac7b-7c729e4eb5dd
X-WR-CALDESC:
X-WR-RELCALID:68bd70fb494bf775a608cde759c0d755
X-WR-TIMEZONE:America/Chicago
BEGIN:VTIMEZONE
TZID:America/Chicago
BEGIN:STANDARD
TZNAME:CST
DTSTART:20171105T020000
TZOFFSETFROM:-0500
TZOFFSETTO:-0600
RDATE:20181104T020000
RDATE:20191103T020000
END:STANDARD
BEGIN:DAYLIGHT
TZNAME:CDT
DTSTART:20180311T020000
TZOFFSETFROM:-0600
TZOFFSETTO:-0500
RDATE:20190310T020000
END:DAYLIGHT
END:VTIMEZONE
BEGIN:VEVENT
UID:ee410d7d-9955-4991-8c09-a102343899ec
DTSTAMP:20260424T121528Z
DESCRIPTION:
DTSTART;TZID=America/Chicago:20180508T000000
DTEND;TZID=America/Chicago:20180508T235900
LOCATION:
SUMMARY:ReStore Half Price Sale
END:VEVENT
END:VCALENDAR
