BEGIN:VCALENDAR
VERSION:2.0
PRODID:-//tahlequahhabitat.org//NONSGML kigkonsult.se iCalcreator 2.30.10//
CALSCALE:GREGORIAN
METHOD:PUBLISH
UID:df9c7749-cf45-4b62-9f08-b1e200bcbfb5
X-WR-CALDESC:
X-WR-RELCALID:9df636cb89288d96e8ce791a01bf3473
X-WR-TIMEZONE:America/Chicago
BEGIN:VTIMEZONE
TZID:America/Chicago
BEGIN:STANDARD
TZNAME:CST
DTSTART:20171105T020000
TZOFFSETFROM:-0500
TZOFFSETTO:-0600
RDATE:20181104T020000
RDATE:20191103T020000
END:STANDARD
BEGIN:DAYLIGHT
TZNAME:CDT
DTSTART:20180311T020000
TZOFFSETFROM:-0600
TZOFFSETTO:-0500
RDATE:20190310T020000
END:DAYLIGHT
END:VTIMEZONE
BEGIN:VEVENT
UID:caea0209-a4dd-47cf-a54a-43c8c627435a
DTSTAMP:20260424T122119Z
DESCRIPTION:
DTSTART;TZID=America/Chicago:20180509T000000
DTEND;TZID=America/Chicago:20180509T235900
LOCATION:
SUMMARY:ReStore Half Price Sale
END:VEVENT
END:VCALENDAR
