BEGIN:VCALENDAR
VERSION:2.0
PRODID:-//tahlequahhabitat.org//NONSGML kigkonsult.se iCalcreator 2.30.10//
CALSCALE:GREGORIAN
METHOD:PUBLISH
UID:a5767803-6b78-4b9e-a1de-8cd97f33afb6
X-WR-CALDESC:Driving directions: House #25 is located at 23294 East 730 Roa
 d\, east of Tahlequah via Highway 10.  Starting on Highway 10 from 62\, go
  north 3 miles.  Turn right onto East 730 Road and go about 2 miles\, whic
 h includes a hard left\, to continue on 730 Road.
X-WR-RELCALID:a939828a939f6808929628d51bd27898
X-WR-TIMEZONE:America/Chicago
BEGIN:VTIMEZONE
TZID:America/Chicago
BEGIN:STANDARD
TZNAME:CST
DTSTART:20171105T020000
TZOFFSETFROM:-0500
TZOFFSETTO:-0600
RDATE:20181104T020000
RDATE:20191103T020000
END:STANDARD
BEGIN:DAYLIGHT
TZNAME:CDT
DTSTART:20180311T020000
TZOFFSETFROM:-0600
TZOFFSETTO:-0500
RDATE:20190310T020000
END:DAYLIGHT
END:VTIMEZONE
BEGIN:VEVENT
UID:5e2e53b1-2bd3-46f4-b8c3-8174779be8f8
DTSTAMP:20260424T122324Z
DESCRIPTION:Driving directions: House #25 is located at 23294 East 730 Road
 \, east of Tahlequah via Highway 10.  Starting on Highway 10 from 62\, go 
 north 3 miles.  Turn right onto East 730 Road and go about 2 miles\, which
  includes a hard left\, to continue on 730 Road.
DTSTART;TZID=America/Chicago:20180512T140000
DTEND;TZID=America/Chicago:20180512T150000
LOCATION:
SUMMARY:House #25 Blessing
END:VEVENT
END:VCALENDAR
