BEGIN:VCALENDAR
VERSION:2.0
PRODID:-//tahlequahhabitat.org//NONSGML kigkonsult.se iCalcreator 2.30.10//
CALSCALE:GREGORIAN
METHOD:PUBLISH
UID:1b1a5265-884f-4776-bd63-54df4112f556
X-WR-CALDESC:
X-WR-RELCALID:062bd3ea55e6e4b968bd08966972733f
X-WR-TIMEZONE:America/Chicago
BEGIN:VTIMEZONE
TZID:America/Chicago
BEGIN:STANDARD
TZNAME:CST
DTSTART:20171105T020000
TZOFFSETFROM:-0500
TZOFFSETTO:-0600
RDATE:20181104T020000
RDATE:20191103T020000
END:STANDARD
BEGIN:DAYLIGHT
TZNAME:CDT
DTSTART:20180311T020000
TZOFFSETFROM:-0600
TZOFFSETTO:-0500
RDATE:20190310T020000
END:DAYLIGHT
END:VTIMEZONE
BEGIN:VEVENT
UID:b33b9136-f63f-4cb2-8d8e-f72a9ff30f39
DTSTAMP:20260424T122159Z
DESCRIPTION:
DTSTART;TZID=America/Chicago:20180525T000000
DTEND;TZID=America/Chicago:20180531T235900
LOCATION:
SUMMARY:End of May Dollar Days Sale
END:VEVENT
END:VCALENDAR
