BEGIN:VCALENDAR
VERSION:2.0
PRODID:-//tahlequahhabitat.org//NONSGML kigkonsult.se iCalcreator 2.30.10//
CALSCALE:GREGORIAN
METHOD:PUBLISH
UID:11695b4d-38b3-4af7-9355-7af29609ecde
X-WR-CALDESC:
X-WR-RELCALID:4a38d275e03ee92a4e032577650155f6
X-WR-TIMEZONE:America/Chicago
BEGIN:VTIMEZONE
TZID:America/Chicago
BEGIN:STANDARD
TZNAME:CST
DTSTART:20171105T020000
TZOFFSETFROM:-0500
TZOFFSETTO:-0600
RDATE:20181104T020000
RDATE:20191103T020000
END:STANDARD
BEGIN:DAYLIGHT
TZNAME:CDT
DTSTART:20180311T020000
TZOFFSETFROM:-0600
TZOFFSETTO:-0500
RDATE:20190310T020000
END:DAYLIGHT
END:VTIMEZONE
BEGIN:VEVENT
UID:575b010d-5d0d-4963-b00d-f16cf65713f6
DTSTAMP:20260424T103245Z
DESCRIPTION:
DTSTART;TZID=America/Chicago:20180618T180000
DTEND;TZID=America/Chicago:20180618T200000
LOCATION:
SUMMARY:Financial Literacy Webinar
END:VEVENT
END:VCALENDAR
