BEGIN:VCALENDAR
VERSION:2.0
PRODID:-//tahlequahhabitat.org//NONSGML kigkonsult.se iCalcreator 2.30.10//
CALSCALE:GREGORIAN
METHOD:PUBLISH
UID:dacc6af7-66c0-44a2-a0fa-dce152677301
X-WR-CALDESC:
X-WR-RELCALID:52632ccc4b44de9a4c9f8e6aab8a4cb8
X-WR-TIMEZONE:America/Chicago
BEGIN:VTIMEZONE
TZID:America/Chicago
BEGIN:STANDARD
TZNAME:CST
DTSTART:20171105T020000
TZOFFSETFROM:-0500
TZOFFSETTO:-0600
RDATE:20181104T020000
RDATE:20191103T020000
END:STANDARD
BEGIN:DAYLIGHT
TZNAME:CDT
DTSTART:20180311T020000
TZOFFSETFROM:-0600
TZOFFSETTO:-0500
RDATE:20190310T020000
END:DAYLIGHT
END:VTIMEZONE
BEGIN:VEVENT
UID:c0ac211e-9b6e-417c-b70e-1946f144acd8
DTSTAMP:20260424T065506Z
DESCRIPTION:
DTSTART;TZID=America/Chicago:20180730T000000
DTEND;TZID=America/Chicago:20180804T235900
LOCATION:
SUMMARY:ReStore Rack 1/2 Off Sale July 30-August 3
END:VEVENT
END:VCALENDAR
