BEGIN:VCALENDAR
VERSION:2.0
PRODID:-//tahlequahhabitat.org//NONSGML kigkonsult.se iCalcreator 2.30.10//
CALSCALE:GREGORIAN
METHOD:PUBLISH
UID:552cab6d-a236-42ca-bfa9-66cde25c5950
X-WR-CALDESC:
X-WR-RELCALID:85f56201d0ee18ed216e1606ac16ccb9
X-WR-TIMEZONE:America/Chicago
BEGIN:VTIMEZONE
TZID:America/Chicago
BEGIN:STANDARD
TZNAME:CST
DTSTART:20171105T020000
TZOFFSETFROM:-0500
TZOFFSETTO:-0600
RDATE:20181104T020000
RDATE:20191103T020000
END:STANDARD
BEGIN:DAYLIGHT
TZNAME:CDT
DTSTART:20180311T020000
TZOFFSETFROM:-0600
TZOFFSETTO:-0500
RDATE:20190310T020000
END:DAYLIGHT
END:VTIMEZONE
BEGIN:VEVENT
UID:ce2a2864-3b1b-4b0c-a0b9-080f32b202a7
DTSTAMP:20260424T065424Z
DESCRIPTION:
DTSTART;TZID=America/Chicago:20180802T000000
DTEND;TZID=America/Chicago:20180802T235900
LOCATION:
SUMMARY:ReStore Home Improvement Store August W-Th 1/2 Sale on Selected Ite
 ms
END:VEVENT
END:VCALENDAR
