BEGIN:VCALENDAR
VERSION:2.0
PRODID:-//tahlequahhabitat.org//NONSGML kigkonsult.se iCalcreator 2.30.10//
CALSCALE:GREGORIAN
METHOD:PUBLISH
UID:f71993e5-b9d2-4b58-ba7e-7a3176b2e1f6
X-WR-CALDESC:
X-WR-RELCALID:ecb95c747f622d24416a69565016367b
X-WR-TIMEZONE:America/Chicago
BEGIN:VTIMEZONE
TZID:America/Chicago
BEGIN:STANDARD
TZNAME:CST
DTSTART:20171105T020000
TZOFFSETFROM:-0500
TZOFFSETTO:-0600
RDATE:20181104T020000
RDATE:20191103T020000
END:STANDARD
BEGIN:DAYLIGHT
TZNAME:CDT
DTSTART:20180311T020000
TZOFFSETFROM:-0600
TZOFFSETTO:-0500
RDATE:20190310T020000
END:DAYLIGHT
END:VTIMEZONE
BEGIN:VEVENT
UID:22e12240-841a-44d7-beba-20583788a037
DTSTAMP:20260424T070146Z
DESCRIPTION:
DTSTART;TZID=America/Chicago:20180809T000000
DTEND;TZID=America/Chicago:20180809T235900
LOCATION:
SUMMARY:ReStore Home Improvement Store August W-Th 1/2 Sale on Selected Ite
 ms
END:VEVENT
END:VCALENDAR
