BEGIN:VCALENDAR
VERSION:2.0
PRODID:-//tahlequahhabitat.org//NONSGML kigkonsult.se iCalcreator 2.30.10//
CALSCALE:GREGORIAN
METHOD:PUBLISH
UID:67589a29-02d3-420c-b039-a5df18340d86
X-WR-CALDESC:
X-WR-RELCALID:c5ca259f2c6e7828c083a6ffaf75a79c
X-WR-TIMEZONE:America/Chicago
BEGIN:VTIMEZONE
TZID:America/Chicago
BEGIN:STANDARD
TZNAME:CST
DTSTART:20171105T020000
TZOFFSETFROM:-0500
TZOFFSETTO:-0600
RDATE:20181104T020000
RDATE:20191103T020000
END:STANDARD
BEGIN:DAYLIGHT
TZNAME:CDT
DTSTART:20180311T020000
TZOFFSETFROM:-0600
TZOFFSETTO:-0500
RDATE:20190310T020000
END:DAYLIGHT
END:VTIMEZONE
BEGIN:VEVENT
UID:ac9bab77-e6ce-4917-a1f4-b9ec45fc5664
DTSTAMP:20260424T065956Z
DESCRIPTION:
DTSTART;TZID=America/Chicago:20180816T000000
DTEND;TZID=America/Chicago:20180816T235900
LOCATION:
SUMMARY:ReStore Home Improvement Store August W-Th 1/2 Sale on Selected Ite
 ms
END:VEVENT
END:VCALENDAR
