BEGIN:VCALENDAR
VERSION:2.0
PRODID:-//tahlequahhabitat.org//NONSGML kigkonsult.se iCalcreator 2.30.10//
CALSCALE:GREGORIAN
METHOD:PUBLISH
UID:58510fe6-6292-425b-a13f-d8fbc310b8c8
X-WR-CALDESC:
X-WR-RELCALID:d9e292b78a5c809c2fa57e1050aae2c3
X-WR-TIMEZONE:America/Chicago
BEGIN:VTIMEZONE
TZID:America/Chicago
BEGIN:STANDARD
TZNAME:CST
DTSTART:20171105T020000
TZOFFSETFROM:-0500
TZOFFSETTO:-0600
RDATE:20181104T020000
RDATE:20191103T020000
END:STANDARD
BEGIN:DAYLIGHT
TZNAME:CDT
DTSTART:20180311T020000
TZOFFSETFROM:-0600
TZOFFSETTO:-0500
RDATE:20190310T020000
END:DAYLIGHT
END:VTIMEZONE
BEGIN:VEVENT
UID:425b64c7-b3fa-4432-8d12-11e2e9162594
DTSTAMP:20260424T065858Z
DESCRIPTION:
DTSTART;TZID=America/Chicago:20180822T000000
DTEND;TZID=America/Chicago:20180822T235900
LOCATION:
SUMMARY:ReStore Home Improvement Store August W-Th 1/2 Sale on Selected Ite
 ms
END:VEVENT
END:VCALENDAR
