BEGIN:VCALENDAR
VERSION:2.0
PRODID:-//tahlequahhabitat.org//NONSGML kigkonsult.se iCalcreator 2.30.10//
CALSCALE:GREGORIAN
METHOD:PUBLISH
UID:47a4db52-5e80-4f9d-b648-4acd84be0172
X-WR-CALDESC:
X-WR-RELCALID:3d24adf48ef72ff11cfb466b7a03b669
X-WR-TIMEZONE:America/Chicago
BEGIN:VTIMEZONE
TZID:America/Chicago
BEGIN:STANDARD
TZNAME:CST
DTSTART:20171105T020000
TZOFFSETFROM:-0500
TZOFFSETTO:-0600
RDATE:20181104T020000
RDATE:20191103T020000
END:STANDARD
BEGIN:DAYLIGHT
TZNAME:CDT
DTSTART:20180311T020000
TZOFFSETFROM:-0600
TZOFFSETTO:-0500
RDATE:20190310T020000
END:DAYLIGHT
END:VTIMEZONE
BEGIN:VEVENT
UID:f9c2266a-98bb-46ca-99f0-d9a8d8faa5c2
DTSTAMP:20260424T065808Z
DESCRIPTION:
DTSTART;TZID=America/Chicago:20180830T000000
DTEND;TZID=America/Chicago:20180830T235900
LOCATION:
SUMMARY:ReStore Home Improvement Store August W-Th 1/2 Sale on Selected Ite
 ms
END:VEVENT
END:VCALENDAR
