BEGIN:VCALENDAR
VERSION:2.0
PRODID:-//tahlequahhabitat.org//NONSGML kigkonsult.se iCalcreator 2.30.10//
CALSCALE:GREGORIAN
METHOD:PUBLISH
UID:53abfc74-de05-4616-a2ee-eed50ce91a30
X-WR-CALDESC:
X-WR-RELCALID:47787afba4edb9518a95e0316a3fee61
X-WR-TIMEZONE:America/Chicago
BEGIN:VTIMEZONE
TZID:America/Chicago
BEGIN:STANDARD
TZNAME:CST
DTSTART:20171105T020000
TZOFFSETFROM:-0500
TZOFFSETTO:-0600
RDATE:20181104T020000
RDATE:20191103T020000
END:STANDARD
BEGIN:DAYLIGHT
TZNAME:CDT
DTSTART:20180311T020000
TZOFFSETFROM:-0600
TZOFFSETTO:-0500
RDATE:20190310T020000
RDATE:20200308T020000
END:DAYLIGHT
END:VTIMEZONE
BEGIN:VEVENT
UID:3f0063ef-483d-4477-90d1-e08554479038
DTSTAMP:20260424T032500Z
DESCRIPTION:
DTSTART;TZID=America/Chicago:20181026T000000
DTEND;TZID=America/Chicago:20181026T235900
LOCATION:
SUMMARY:Holes for Habitat Golf Tournament
END:VEVENT
END:VCALENDAR
