BEGIN:VCALENDAR
VERSION:2.0
PRODID:-//tahlequahhabitat.org//NONSGML kigkonsult.se iCalcreator 2.30.10//
CALSCALE:GREGORIAN
METHOD:PUBLISH
UID:21d830a0-d293-4049-96c5-abf7599fceaf
X-WR-CALDESC:#GivingTuesday is your chance to give back to our community th
 is holiday season with the spirit of giving. Please click on the below lin
 k to find out more about #GivingTuesday.
X-WR-RELCALID:d51e12612147dd79ec550a5fb82211fa
X-WR-TIMEZONE:America/Chicago
BEGIN:VTIMEZONE
TZID:America/Chicago
BEGIN:STANDARD
TZNAME:CST
DTSTART:20181104T020000
TZOFFSETFROM:-0500
TZOFFSETTO:-0600
RDATE:20191103T020000
END:STANDARD
BEGIN:DAYLIGHT
TZNAME:CDT
DTSTART:20180311T020000
TZOFFSETFROM:-0600
TZOFFSETTO:-0500
RDATE:20190310T020000
RDATE:20200308T020000
END:DAYLIGHT
END:VTIMEZONE
BEGIN:VEVENT
UID:cfa8aa10-d34e-4162-8d5e-2e19b96d1893
DTSTAMP:20260424T012453Z
DESCRIPTION:#GivingTuesday is your chance to give back to our community thi
 s holiday season with the spirit of giving. Please click on the below link
  to find out more about #GivingTuesday.
DTSTART;TZID=America/Chicago:20181127T000000
DTEND;TZID=America/Chicago:20181127T235900
LOCATION:
SUMMARY:GivingTuesday
END:VEVENT
END:VCALENDAR
