BEGIN:VCALENDAR
VERSION:2.0
PRODID:-//tahlequahhabitat.org//NONSGML kigkonsult.se iCalcreator 2.30.10//
CALSCALE:GREGORIAN
METHOD:PUBLISH
UID:6f91ee43-c7eb-4b08-ad17-ac13f0d5aa2d
X-WR-CALDESC:Have your photo taken with 'A Grinch' for $5 at the ReStore
X-WR-RELCALID:6d4c8c472c24612ac9a45cd88bae53cf
X-WR-TIMEZONE:America/Chicago
BEGIN:VTIMEZONE
TZID:America/Chicago
BEGIN:STANDARD
TZNAME:CST
DTSTART:20181104T020000
TZOFFSETFROM:-0500
TZOFFSETTO:-0600
RDATE:20191103T020000
END:STANDARD
BEGIN:DAYLIGHT
TZNAME:CDT
DTSTART:20180311T020000
TZOFFSETFROM:-0600
TZOFFSETTO:-0500
RDATE:20190310T020000
RDATE:20200308T020000
END:DAYLIGHT
END:VTIMEZONE
BEGIN:VEVENT
UID:9f5ab889-97d6-4522-ba24-38c0b8664529
DTSTAMP:20260423T234631Z
DESCRIPTION:Have your photo taken with 'A Grinch' for $5 at the ReStore
DTSTART;TZID=America/Chicago:20181208T130000
DTEND;TZID=America/Chicago:20181208T150000
LOCATION:
SUMMARY:Photos with 'A Grinch'
END:VEVENT
END:VCALENDAR
