BEGIN:VCALENDAR
VERSION:2.0
PRODID:-//tahlequahhabitat.org//NONSGML kigkonsult.se iCalcreator 2.30.10//
CALSCALE:GREGORIAN
METHOD:PUBLISH
UID:84cd04fb-747e-490a-b3e9-053c13813a90
X-WR-CALDESC:Have your photo taken with Santa for $5 at the Rack.
X-WR-RELCALID:61d4c38c4c3e32b12e139d82a97fb4cc
X-WR-TIMEZONE:America/Chicago
BEGIN:VTIMEZONE
TZID:America/Chicago
BEGIN:STANDARD
TZNAME:CST
DTSTART:20181104T020000
TZOFFSETFROM:-0500
TZOFFSETTO:-0600
RDATE:20191103T020000
END:STANDARD
BEGIN:DAYLIGHT
TZNAME:CDT
DTSTART:20180311T020000
TZOFFSETFROM:-0600
TZOFFSETTO:-0500
RDATE:20190310T020000
RDATE:20200308T020000
END:DAYLIGHT
END:VTIMEZONE
BEGIN:VEVENT
UID:3c3f4eb6-5b37-4e9f-a5d2-622443019e9c
DTSTAMP:20260423T234051Z
DESCRIPTION:Have your photo taken with Santa for $5 at the Rack.
DTSTART;TZID=America/Chicago:20181218T140000
DTEND;TZID=America/Chicago:20181218T170000
LOCATION:
SUMMARY:Photos with Santa
END:VEVENT
END:VCALENDAR
