BEGIN:VCALENDAR
VERSION:2.0
PRODID:-//tahlequahhabitat.org//NONSGML kigkonsult.se iCalcreator 2.30.10//
CALSCALE:GREGORIAN
METHOD:PUBLISH
UID:35aadb5c-a6c2-4cb4-bfce-0e97d3c914db
X-WR-CALDESC:Have your photo taken with Santa at the Rack for $5.
X-WR-RELCALID:32af27a7dee1215810ee5d2eb518ed97
X-WR-TIMEZONE:America/Chicago
BEGIN:VTIMEZONE
TZID:America/Chicago
BEGIN:STANDARD
TZNAME:CST
DTSTART:20181104T020000
TZOFFSETFROM:-0500
TZOFFSETTO:-0600
RDATE:20191103T020000
END:STANDARD
BEGIN:DAYLIGHT
TZNAME:CDT
DTSTART:20180311T020000
TZOFFSETFROM:-0600
TZOFFSETTO:-0500
RDATE:20190310T020000
RDATE:20200308T020000
END:DAYLIGHT
END:VTIMEZONE
BEGIN:VEVENT
UID:e8408325-b6c2-4f66-8c97-72082fa122b7
DTSTAMP:20260423T234302Z
DESCRIPTION:Have your photo taken with Santa at the Rack for $5.
DTSTART;TZID=America/Chicago:20181220T140000
DTEND;TZID=America/Chicago:20181220T170000
LOCATION:
SUMMARY:Photos with Santa
END:VEVENT
END:VCALENDAR
