BEGIN:VCALENDAR
VERSION:2.0
PRODID:-//tahlequahhabitat.org//NONSGML kigkonsult.se iCalcreator 2.30.10//
CALSCALE:GREGORIAN
METHOD:PUBLISH
UID:7a2c0d55-ab4b-432c-b93c-8422a2465f3e
X-WR-CALDESC:
X-WR-RELCALID:29eb363e0d493044d632f277fb941a7f
X-WR-TIMEZONE:America/Chicago
BEGIN:VTIMEZONE
TZID:America/Chicago
BEGIN:STANDARD
TZNAME:CST
DTSTART:20181104T020000
TZOFFSETFROM:-0500
TZOFFSETTO:-0600
RDATE:20191103T020000
END:STANDARD
BEGIN:DAYLIGHT
TZNAME:CDT
DTSTART:20180311T020000
TZOFFSETFROM:-0600
TZOFFSETTO:-0500
RDATE:20190310T020000
RDATE:20200308T020000
END:DAYLIGHT
END:VTIMEZONE
BEGIN:VEVENT
UID:e4f54564-2f0c-4d65-9ded-fd1ef3e76bb0
DTSTAMP:20260423T234051Z
DESCRIPTION:
DTSTART;TZID=America/Chicago:20181224T000000
DTEND;TZID=America/Chicago:20181224T235900
LOCATION:
SUMMARY:ReStore and Rack Closed Today
END:VEVENT
END:VCALENDAR
