BEGIN:VCALENDAR
VERSION:2.0
PRODID:-//tahlequahhabitat.org//NONSGML kigkonsult.se iCalcreator 2.30.10//
CALSCALE:GREGORIAN
METHOD:PUBLISH
UID:26746314-caca-4a31-86e4-29342de59d1c
X-WR-CALDESC:
X-WR-RELCALID:95e67abe6de36319634a5e9be2ce55da
X-WR-TIMEZONE:America/Chicago
BEGIN:VTIMEZONE
TZID:America/Chicago
BEGIN:STANDARD
TZNAME:CST
DTSTART:20181104T020000
TZOFFSETFROM:-0500
TZOFFSETTO:-0600
RDATE:20191103T020000
END:STANDARD
BEGIN:DAYLIGHT
TZNAME:CDT
DTSTART:20180311T020000
TZOFFSETFROM:-0600
TZOFFSETTO:-0500
RDATE:20190310T020000
RDATE:20200308T020000
END:DAYLIGHT
END:VTIMEZONE
BEGIN:VEVENT
UID:430f737c-a6e3-4bb3-8e8b-d77a470db813
DTSTAMP:20260423T234113Z
DESCRIPTION:
DTSTART;TZID=America/Chicago:20181225T000000
DTEND;TZID=America/Chicago:20181225T235900
LOCATION:
SUMMARY:ReStore and Rack Closed Today
END:VEVENT
END:VCALENDAR
