BEGIN:VCALENDAR
VERSION:2.0
PRODID:-//tahlequahhabitat.org//NONSGML kigkonsult.se iCalcreator 2.30.10//
CALSCALE:GREGORIAN
METHOD:PUBLISH
UID:4b58ead1-3009-4118-8078-a13ec12fe411
X-WR-CALDESC:
X-WR-RELCALID:d8eb7a23cc7ebe27a664517a38966492
X-WR-TIMEZONE:America/Chicago
BEGIN:VTIMEZONE
TZID:America/Chicago
BEGIN:STANDARD
TZNAME:CST
DTSTART:20181104T020000
TZOFFSETFROM:-0500
TZOFFSETTO:-0600
RDATE:20191103T020000
END:STANDARD
BEGIN:DAYLIGHT
TZNAME:CDT
DTSTART:20180311T020000
TZOFFSETFROM:-0600
TZOFFSETTO:-0500
RDATE:20190310T020000
RDATE:20200308T020000
END:DAYLIGHT
END:VTIMEZONE
BEGIN:VEVENT
UID:2304a827-3467-4649-b256-2c0d9167022b
DTSTAMP:20260423T234108Z
DESCRIPTION:
DTSTART;TZID=America/Chicago:20181231T000000
DTEND;TZID=America/Chicago:20181231T235900
LOCATION:
SUMMARY:ReStore and Rack Open Today
END:VEVENT
END:VCALENDAR
