BEGIN:VCALENDAR
VERSION:2.0
PRODID:-//tahlequahhabitat.org//NONSGML kigkonsult.se iCalcreator 2.30.10//
CALSCALE:GREGORIAN
METHOD:PUBLISH
UID:371bd7dd-312c-4c96-8ba0-f95f637c3dbb
X-WR-CALDESC:AmericaCorps NCCC volunteers arrive today
X-WR-RELCALID:f6b5d5e71e785fd0e409a5f49d76ba1a
X-WR-TIMEZONE:America/Chicago
BEGIN:VTIMEZONE
TZID:America/Chicago
BEGIN:STANDARD
TZNAME:CST
DTSTART:20181104T020000
TZOFFSETFROM:-0500
TZOFFSETTO:-0600
RDATE:20191103T020000
END:STANDARD
BEGIN:DAYLIGHT
TZNAME:CDT
DTSTART:20180311T020000
TZOFFSETFROM:-0600
TZOFFSETTO:-0500
RDATE:20190310T020000
RDATE:20200308T020000
END:DAYLIGHT
END:VTIMEZONE
BEGIN:VEVENT
UID:2cd9132b-06cd-4c8b-97f0-e7a4dbfcc54f
DTSTAMP:20260423T220726Z
DESCRIPTION:AmericaCorps NCCC volunteers arrive today
DTSTART;TZID=America/Chicago:20190106T000000
DTEND;TZID=America/Chicago:20190106T235900
LOCATION:
SUMMARY:AmericaCorps NCCC Volunteers Arrive Today
END:VEVENT
END:VCALENDAR
