BEGIN:VCALENDAR
VERSION:2.0
PRODID:-//tahlequahhabitat.org//NONSGML kigkonsult.se iCalcreator 2.30.10//
CALSCALE:GREGORIAN
METHOD:PUBLISH
UID:d6ff6435-8333-45e2-8bfe-1e678916f4eb
X-WR-CALDESC:Tahlequah Church of the Nazarene has teamed up with Tahlequah 
 Area Habitat for Humanity to host an Indian Taco Fundraiser.\n\nThe Indian
  Taco sale will be held at the Church of the Nazarene located at 20443 Eas
 t Allen Road\, Tahlequah.\n\nTacos are only $5 each. All proceeds will go 
 to help build House #26!
X-WR-RELCALID:3e0128460f401591bb48b16419a6f389
X-WR-TIMEZONE:America/Chicago
BEGIN:VTIMEZONE
TZID:America/Chicago
BEGIN:STANDARD
TZNAME:CST
DTSTART:20181104T020000
TZOFFSETFROM:-0500
TZOFFSETTO:-0600
RDATE:20191103T020000
END:STANDARD
BEGIN:DAYLIGHT
TZNAME:CDT
DTSTART:20180311T020000
TZOFFSETFROM:-0600
TZOFFSETTO:-0500
RDATE:20190310T020000
RDATE:20200308T020000
END:DAYLIGHT
END:VTIMEZONE
BEGIN:VEVENT
UID:c65ba02c-dd16-4473-8431-16778ab79552
DTSTAMP:20260423T201838Z
DESCRIPTION:Tahlequah Church of the Nazarene has teamed up with Tahlequah A
 rea Habitat for Humanity to host an Indian Taco Fundraiser.\n\nThe Indian 
 Taco sale will be held at the Church of the Nazarene located at 20443 East
  Allen Road\, Tahlequah.\n\nTacos are only $5 each. All proceeds will go t
 o help build House #26!
DTSTART;TZID=America/Chicago:20190222T103000
DTEND;TZID=America/Chicago:20190222T140000
LOCATION:
SUMMARY:Indian Taco Fundraiser
END:VEVENT
END:VCALENDAR
