BEGIN:VCALENDAR
VERSION:2.0
PRODID:-//tahlequahhabitat.org//NONSGML kigkonsult.se iCalcreator 2.30.10//
CALSCALE:GREGORIAN
METHOD:PUBLISH
UID:8da7aa3d-d84c-442f-ade8-bf54bacf28b9
X-WR-CALDESC:The ReStore Home Improvement Store will have a 75% off sale on
  all dishes\, bowls\, cups\, mugs and drinking glasses during the month of
  March 2019. Stop by in March to see our wide assortment of these sale ite
 ms!
X-WR-RELCALID:6deb209a224fe8aacd694f854558d583
X-WR-TIMEZONE:America/Chicago
BEGIN:VTIMEZONE
TZID:America/Chicago
BEGIN:STANDARD
TZNAME:CST
DTSTART:20181104T020000
TZOFFSETFROM:-0500
TZOFFSETTO:-0600
RDATE:20191103T020000
END:STANDARD
BEGIN:DAYLIGHT
TZNAME:CDT
DTSTART:20190310T020000
TZOFFSETFROM:-0600
TZOFFSETTO:-0500
RDATE:20200308T020000
END:DAYLIGHT
END:VTIMEZONE
BEGIN:VEVENT
UID:95a62444-79d1-4eb6-8be4-5d931852363e
DTSTAMP:20260423T183313Z
DESCRIPTION:The ReStore Home Improvement Store will have a 75% off sale on 
 all dishes\, bowls\, cups\, mugs and drinking glasses during the month of 
 March 2019. Stop by in March to see our wide assortment of these sale item
 s!
DTSTART;TZID=America/Chicago:20190318T000000
DTEND;TZID=America/Chicago:20190324T235900
LOCATION:
SUMMARY:ReStore Home Improvement Sale
END:VEVENT
END:VCALENDAR
