BEGIN:VCALENDAR
VERSION:2.0
PRODID:-//tahlequahhabitat.org//NONSGML kigkonsult.se iCalcreator 2.30.10//
CALSCALE:GREGORIAN
METHOD:PUBLISH
UID:bc8efdb5-fd0a-4b67-9b0d-4cf45ecad7f9
X-WR-CALDESC:
X-WR-RELCALID:3909e49d1ef722d8b32928d028d96187
X-WR-TIMEZONE:America/Chicago
BEGIN:VTIMEZONE
TZID:America/Chicago
BEGIN:STANDARD
TZNAME:CST
DTSTART:20181104T020000
TZOFFSETFROM:-0500
TZOFFSETTO:-0600
RDATE:20191103T020000
END:STANDARD
BEGIN:DAYLIGHT
TZNAME:CDT
DTSTART:20190310T020000
TZOFFSETFROM:-0600
TZOFFSETTO:-0500
RDATE:20200308T020000
END:DAYLIGHT
END:VTIMEZONE
BEGIN:VEVENT
UID:a9ab4e89-bd94-430d-a985-547305998e53
DTSTAMP:20260423T165310Z
DESCRIPTION:
DTSTART;TZID=America/Chicago:20190405T180000
DTEND;TZID=America/Chicago:20190405T210000
LOCATION:
SUMMARY:First Annual Spring Gala
END:VEVENT
END:VCALENDAR
