BEGIN:VCALENDAR
VERSION:2.0
PRODID:-//tahlequahhabitat.org//NONSGML kigkonsult.se iCalcreator 2.30.10//
CALSCALE:GREGORIAN
METHOD:PUBLISH
UID:b2a02175-5d7d-4b33-a57e-67e1f2d43f56
X-WR-CALDESC:
X-WR-RELCALID:2e43b2edbfcd051beab911e3d68594c8
X-WR-TIMEZONE:America/Chicago
BEGIN:VTIMEZONE
TZID:America/Chicago
BEGIN:STANDARD
TZNAME:CST
DTSTART:20181104T020000
TZOFFSETFROM:-0500
TZOFFSETTO:-0600
RDATE:20191103T020000
RDATE:20201101T020000
END:STANDARD
BEGIN:DAYLIGHT
TZNAME:CDT
DTSTART:20190310T020000
TZOFFSETFROM:-0600
TZOFFSETTO:-0500
RDATE:20200308T020000
END:DAYLIGHT
END:VTIMEZONE
BEGIN:VEVENT
UID:53194d05-e4df-4238-9027-b23d87cd9d82
DTSTAMP:20260423T114011Z
DESCRIPTION:
DTSTART;TZID=America/Chicago:20190727T000000
DTEND;TZID=America/Chicago:20190727T235900
LOCATION:
SUMMARY:Holes for Habitat Golf Tournament
END:VEVENT
END:VCALENDAR
