BEGIN:VCALENDAR
VERSION:2.0
PRODID:-//tahlequahhabitat.org//NONSGML kigkonsult.se iCalcreator 2.30.10//
CALSCALE:GREGORIAN
METHOD:PUBLISH
UID:1000d2ba-c8c4-4073-b5e1-0f9ff2962eb8
X-WR-CALDESC:
X-WR-RELCALID:1dab172b5a33126b1d4c0dde9f24f9af
X-WR-TIMEZONE:America/Chicago
BEGIN:VTIMEZONE
TZID:America/Chicago
BEGIN:STANDARD
TZNAME:CST
DTSTART:20181104T020000
TZOFFSETFROM:-0500
TZOFFSETTO:-0600
RDATE:20191103T020000
RDATE:20201101T020000
END:STANDARD
BEGIN:DAYLIGHT
TZNAME:CDT
DTSTART:20190310T020000
TZOFFSETFROM:-0600
TZOFFSETTO:-0500
RDATE:20200308T020000
END:DAYLIGHT
END:VTIMEZONE
BEGIN:VEVENT
UID:a47c5b5a-7935-4ab9-9589-1b134219cbba
DTSTAMP:20260423T080835Z
DESCRIPTION:
DTSTART;TZID=America/Chicago:20190903T000000
DTEND;TZID=America/Chicago:20190903T235900
LOCATION:
SUMMARY:House #27 Construction Begins Today
END:VEVENT
END:VCALENDAR
