BEGIN:VCALENDAR
VERSION:2.0
PRODID:-//tahlequahhabitat.org//NONSGML kigkonsult.se iCalcreator 2.30.10//
CALSCALE:GREGORIAN
METHOD:PUBLISH
UID:d1cc9baa-aa85-4dc0-b765-e53da589432e
X-WR-CALDESC:
X-WR-RELCALID:39258d2b58ac70f5e5911134446a9793
X-WR-TIMEZONE:America/Chicago
BEGIN:VTIMEZONE
TZID:America/Chicago
BEGIN:STANDARD
TZNAME:CST
DTSTART:20191103T020000
TZOFFSETFROM:-0500
TZOFFSETTO:-0600
RDATE:20201101T020000
END:STANDARD
BEGIN:DAYLIGHT
TZNAME:CDT
DTSTART:20190310T020000
TZOFFSETFROM:-0600
TZOFFSETTO:-0500
RDATE:20200308T020000
RDATE:20210314T020000
END:DAYLIGHT
END:VTIMEZONE
BEGIN:VEVENT
UID:02010eb6-0bb8-416b-82bc-f7a2002ccc83
DTSTAMP:20260423T034251Z
DESCRIPTION:
DTSTART;TZID=America/Chicago:20191129T090000
DTEND;TZID=America/Chicago:20191129T170000
LOCATION:
SUMMARY:ReStore Home Improvement Store Open Today / Black Friday Sale
END:VEVENT
END:VCALENDAR
