BEGIN:VCALENDAR
VERSION:2.0
PRODID:-//tahlequahhabitat.org//NONSGML kigkonsult.se iCalcreator 2.30.10//
CALSCALE:GREGORIAN
METHOD:PUBLISH
UID:fec6fb04-f6ce-4edf-8078-0a53041803ba
X-WR-CALDESC:
X-WR-RELCALID:f94ebe72aab70f9e480453a518614f5f
X-WR-TIMEZONE:America/Chicago
BEGIN:VTIMEZONE
TZID:America/Chicago
BEGIN:STANDARD
TZNAME:CST
DTSTART:20191103T020000
TZOFFSETFROM:-0500
TZOFFSETTO:-0600
RDATE:20201101T020000
END:STANDARD
BEGIN:DAYLIGHT
TZNAME:CDT
DTSTART:20190310T020000
TZOFFSETFROM:-0600
TZOFFSETTO:-0500
RDATE:20200308T020000
RDATE:20210314T020000
END:DAYLIGHT
END:VTIMEZONE
BEGIN:VEVENT
UID:980a7987-ca86-414b-a306-af662c856ae2
DTSTAMP:20260423T041010Z
DESCRIPTION:
DTSTART;TZID=America/Chicago:20191129T000000
DTEND;TZID=America/Chicago:20191129T235900
LOCATION:
SUMMARY:ReStore Rack Closed Today
END:VEVENT
END:VCALENDAR
