BEGIN:VCALENDAR
VERSION:2.0
PRODID:-//tahlequahhabitat.org//NONSGML kigkonsult.se iCalcreator 2.30.10//
CALSCALE:GREGORIAN
METHOD:PUBLISH
UID:3edbf8ec-2ef3-4907-8d1d-c6e98bd5c2c8
X-WR-CALDESC:
X-WR-RELCALID:0a75b0a439eea3ba9e4cd73e33ff09a0
X-WR-TIMEZONE:America/Chicago
BEGIN:VTIMEZONE
TZID:America/Chicago
BEGIN:STANDARD
TZNAME:CST
DTSTART:20191103T020000
TZOFFSETFROM:-0500
TZOFFSETTO:-0600
RDATE:20201101T020000
END:STANDARD
BEGIN:DAYLIGHT
TZNAME:CDT
DTSTART:20190310T020000
TZOFFSETFROM:-0600
TZOFFSETTO:-0500
RDATE:20200308T020000
RDATE:20210314T020000
END:DAYLIGHT
END:VTIMEZONE
BEGIN:VEVENT
UID:9d876f98-6a84-4a17-84e5-fc28428ce70d
DTSTAMP:20260423T041316Z
DESCRIPTION:
DTSTART;TZID=America/Chicago:20191130T090000
DTEND;TZID=America/Chicago:20191130T160000
LOCATION:
SUMMARY:ReStore Home Improvement Store Open Today / Black Friday Sale
END:VEVENT
END:VCALENDAR
