BEGIN:VCALENDAR
VERSION:2.0
PRODID:-//tahlequahhabitat.org//NONSGML kigkonsult.se iCalcreator 2.30.10//
CALSCALE:GREGORIAN
METHOD:PUBLISH
UID:fe8bb1fb-acb9-4a7c-8a41-88175a3c0c77
X-WR-CALDESC:
X-WR-RELCALID:56715aa486393c7c8e6588c1724b1616
X-WR-TIMEZONE:America/Chicago
BEGIN:VTIMEZONE
TZID:America/Chicago
BEGIN:STANDARD
TZNAME:CST
DTSTART:20191103T020000
TZOFFSETFROM:-0500
TZOFFSETTO:-0600
RDATE:20201101T020000
END:STANDARD
BEGIN:DAYLIGHT
TZNAME:CDT
DTSTART:20190310T020000
TZOFFSETFROM:-0600
TZOFFSETTO:-0500
RDATE:20200308T020000
RDATE:20210314T020000
END:DAYLIGHT
END:VTIMEZONE
BEGIN:VEVENT
UID:82ee2379-7c15-48e4-a4e5-7520576669a0
DTSTAMP:20260423T020717Z
DESCRIPTION:
DTSTART;TZID=America/Chicago:20191207T100000
DTEND;TZID=America/Chicago:20191207T140000
LOCATION:TAHFH ReStore\, 816 South College Ave.
SUMMARY:Christmas Photos with a Grinch
END:VEVENT
END:VCALENDAR
