BEGIN:VCALENDAR
VERSION:2.0
PRODID:-//tahlequahhabitat.org//NONSGML kigkonsult.se iCalcreator 2.30.10//
CALSCALE:GREGORIAN
METHOD:PUBLISH
UID:8986a6cf-be79-4173-a387-4a854ae22a4a
X-WR-CALDESC:House #27 is located at 1206 Maple Place\, Tahlequah. The Hous
 e Blessing will be broadcast live on TAHFH's Facebook page.
X-WR-RELCALID:0af5ad811fc6b90dae081813aeee6541
X-WR-TIMEZONE:America/Chicago
BEGIN:VTIMEZONE
TZID:America/Chicago
BEGIN:STANDARD
TZNAME:CST
DTSTART:20191103T020000
TZOFFSETFROM:-0500
TZOFFSETTO:-0600
RDATE:20201101T020000
END:STANDARD
BEGIN:DAYLIGHT
TZNAME:CDT
DTSTART:20190310T020000
TZOFFSETFROM:-0600
TZOFFSETTO:-0500
RDATE:20200308T020000
RDATE:20210314T020000
END:DAYLIGHT
END:VTIMEZONE
BEGIN:VEVENT
UID:b3d4a1fd-575f-49d5-85b6-1b7584ec05a2
DTSTAMP:20260423T020615Z
DESCRIPTION:House #27 is located at 1206 Maple Place\, Tahlequah. The House
  Blessing will be broadcast live on TAHFH's Facebook page.
DTSTART;TZID=America/Chicago:20191220T120000
DTEND;TZID=America/Chicago:20191220T130000
LOCATION:
SUMMARY:House #27 'House Blessing'
END:VEVENT
END:VCALENDAR
