BEGIN:VCALENDAR
VERSION:2.0
PRODID:-//tahlequahhabitat.org//NONSGML kigkonsult.se iCalcreator 2.30.10//
CALSCALE:GREGORIAN
METHOD:PUBLISH
UID:c54f870d-a111-4a09-afe6-1a6bb40c48ba
X-WR-CALDESC:The ReStore Rack Clothing Store is hosting a Valentine's Day D
 rawing that includes dinner for two at El Molcajete Mexican Restaurant\, a
  movie gift certificate for two\, and a box of chocolates. Tickets for the
  drawing are $2 each\, or three tickets for $5. Tickets can be purchased a
 t the Rack\, 12 Plaza South (across from the Tag Agency). The drawing will
  be held on February 12\, 2020. Ticket sales benefit the building and repa
 ir of houses in Cherokee County.
X-WR-RELCALID:6b856d69a388b25f83e93f18d0019228
X-WR-TIMEZONE:America/Chicago
BEGIN:VTIMEZONE
TZID:America/Chicago
BEGIN:STANDARD
TZNAME:CST
DTSTART:20191103T020000
TZOFFSETFROM:-0500
TZOFFSETTO:-0600
RDATE:20201101T020000
END:STANDARD
BEGIN:DAYLIGHT
TZNAME:CDT
DTSTART:20190310T020000
TZOFFSETFROM:-0600
TZOFFSETTO:-0500
RDATE:20200308T020000
RDATE:20210314T020000
END:DAYLIGHT
END:VTIMEZONE
BEGIN:VEVENT
UID:67a7ff0c-437e-4efa-83e3-c85486f9624e
DTSTAMP:20260422T223826Z
DESCRIPTION:The ReStore Rack Clothing Store is hosting a Valentine's Day Dr
 awing that includes dinner for two at El Molcajete Mexican Restaurant\, a 
 movie gift certificate for two\, and a box of chocolates. Tickets for the 
 drawing are $2 each\, or three tickets for $5. Tickets can be purchased at
  the Rack\, 12 Plaza South (across from the Tag Agency). The drawing will 
 be held on February 12\, 2020. Ticket sales benefit the building and repai
 r of houses in Cherokee County.
DTSTART;TZID=America/Chicago:20200212T000000
DTEND;TZID=America/Chicago:20200212T235900
LOCATION:Rack Clothing Store
SUMMARY:Valentine's Day Drawing
END:VEVENT
END:VCALENDAR
