BEGIN:VCALENDAR
VERSION:2.0
PRODID:-//tahlequahhabitat.org//NONSGML kigkonsult.se iCalcreator 2.30.10//
CALSCALE:GREGORIAN
METHOD:PUBLISH
UID:44b3c2f5-f0f1-4750-b420-8a6042a5f5d6
X-WR-CALDESC:
X-WR-RELCALID:f3186f966fd02b3efeff9a5c3c1451eb
X-WR-TIMEZONE:America/Chicago
BEGIN:VTIMEZONE
TZID:America/Chicago
BEGIN:STANDARD
TZNAME:CST
DTSTART:20191103T020000
TZOFFSETFROM:-0500
TZOFFSETTO:-0600
RDATE:20201101T020000
END:STANDARD
BEGIN:DAYLIGHT
TZNAME:CDT
DTSTART:20190310T020000
TZOFFSETFROM:-0600
TZOFFSETTO:-0500
RDATE:20200308T020000
RDATE:20210314T020000
END:DAYLIGHT
END:VTIMEZONE
BEGIN:VEVENT
UID:c93c97fd-c5a1-42b4-99d3-c361bbe0524f
DTSTAMP:20260422T205241Z
DESCRIPTION:
DTSTART;TZID=America/Chicago:20200307T050000
DTEND;TZID=America/Chicago:20200307T050001
LOCATION:
SUMMARY:Women Build Event
END:VEVENT
END:VCALENDAR
