BEGIN:VCALENDAR
VERSION:2.0
PRODID:-//tahlequahhabitat.org//NONSGML kigkonsult.se iCalcreator 2.30.10//
CALSCALE:GREGORIAN
METHOD:PUBLISH
UID:7babf45d-43d7-4456-b001-5aa53142db4d
X-WR-CALDESC:
X-WR-RELCALID:fa04d06caa3c0bf4512cce5671458130
X-WR-TIMEZONE:America/Chicago
BEGIN:VTIMEZONE
TZID:America/Chicago
BEGIN:STANDARD
TZNAME:CST
DTSTART:20191103T020000
TZOFFSETFROM:-0500
TZOFFSETTO:-0600
RDATE:20201101T020000
END:STANDARD
BEGIN:DAYLIGHT
TZNAME:CDT
DTSTART:20200308T020000
TZOFFSETFROM:-0600
TZOFFSETTO:-0500
RDATE:20210314T020000
END:DAYLIGHT
END:VTIMEZONE
BEGIN:VEVENT
UID:5421df67-1720-403a-b0da-a9bdb5e3cc04
DTSTAMP:20260422T205431Z
DESCRIPTION:
DTSTART;TZID=America/Chicago:20200316T000000
DTEND;TZID=America/Chicago:20200316T235900
LOCATION:
SUMMARY:House #28 Build Starts Today and Continues into April
END:VEVENT
END:VCALENDAR
