BEGIN:VCALENDAR
VERSION:2.0
PRODID:-//tahlequahhabitat.org//NONSGML kigkonsult.se iCalcreator 2.30.10//
CALSCALE:GREGORIAN
METHOD:PUBLISH
UID:f85f80d3-585c-4a0d-a419-6df7f48a6a1a
X-WR-CALDESC:
X-WR-RELCALID:10eb5d9fed4744373eabe0230e2c739f
X-WR-TIMEZONE:America/Chicago
BEGIN:VTIMEZONE
TZID:America/Chicago
BEGIN:STANDARD
TZNAME:CST
DTSTART:20191103T020000
TZOFFSETFROM:-0500
TZOFFSETTO:-0600
RDATE:20201101T020000
END:STANDARD
BEGIN:DAYLIGHT
TZNAME:CDT
DTSTART:20200308T020000
TZOFFSETFROM:-0600
TZOFFSETTO:-0500
RDATE:20210314T020000
END:DAYLIGHT
END:VTIMEZONE
BEGIN:VEVENT
UID:ab2614cf-f9d4-4ff7-b3b8-bbd7f9648eba
DTSTAMP:20260422T191433Z
DESCRIPTION:
DTSTART;TZID=America/Chicago:20200401T000000
DTEND;TZID=America/Chicago:20200401T235900
LOCATION:
SUMMARY:Construction on House #28 Continues in April
END:VEVENT
END:VCALENDAR
