BEGIN:VCALENDAR
VERSION:2.0
PRODID:-//tahlequahhabitat.org//NONSGML kigkonsult.se iCalcreator 2.30.10//
CALSCALE:GREGORIAN
METHOD:PUBLISH
UID:652d4a33-6099-4420-92d6-2d29aed8f70c
X-WR-CALDESC:
X-WR-RELCALID:63dc380b382ff9da29a950ed06dd6bff
X-WR-TIMEZONE:America/Chicago
BEGIN:VTIMEZONE
TZID:America/Chicago
BEGIN:STANDARD
TZNAME:CST
DTSTART:20191103T020000
TZOFFSETFROM:-0500
TZOFFSETTO:-0600
RDATE:20201101T020000
END:STANDARD
BEGIN:DAYLIGHT
TZNAME:CDT
DTSTART:20200308T020000
TZOFFSETFROM:-0600
TZOFFSETTO:-0500
RDATE:20210314T020000
END:DAYLIGHT
END:VTIMEZONE
BEGIN:VEVENT
UID:76dcbe04-75b1-4a0a-954f-006e1fa254de
DTSTAMP:20260422T174711Z
DESCRIPTION:
DTSTART;TZID=America/Chicago:20200507T000000
DTEND;TZID=America/Chicago:20200507T235900
LOCATION:
SUMMARY:ReStore Rack Clothing Store Reopens Today
END:VEVENT
END:VCALENDAR
