BEGIN:VCALENDAR
VERSION:2.0
PRODID:-//tahlequahhabitat.org//NONSGML kigkonsult.se iCalcreator 2.30.10//
CALSCALE:GREGORIAN
METHOD:PUBLISH
UID:ca41a6e5-618d-42b5-96d8-d0a2c3b95131
X-WR-CALDESC:
X-WR-RELCALID:90c7c2fdffb0ed0f74ef2a404bd15ac0
X-WR-TIMEZONE:America/Chicago
BEGIN:VTIMEZONE
TZID:America/Chicago
BEGIN:STANDARD
TZNAME:CST
DTSTART:20191103T020000
TZOFFSETFROM:-0500
TZOFFSETTO:-0600
RDATE:20201101T020000
RDATE:20211107T020000
END:STANDARD
BEGIN:DAYLIGHT
TZNAME:CDT
DTSTART:20200308T020000
TZOFFSETFROM:-0600
TZOFFSETTO:-0500
RDATE:20210314T020000
END:DAYLIGHT
END:VTIMEZONE
BEGIN:VEVENT
UID:ea2d6cc1-f5c9-4bc6-9634-41bdb9ebf7a9
DTSTAMP:20260422T174911Z
DESCRIPTION:
DTSTART;TZID=America/Chicago:20200518T000000
DTEND;TZID=America/Chicago:20200522T235900
LOCATION:
SUMMARY:May 18-22 Half-price on children's clothing at the Rack Clothing St
 ore
END:VEVENT
END:VCALENDAR
