BEGIN:VCALENDAR
VERSION:2.0
PRODID:-//tahlequahhabitat.org//NONSGML kigkonsult.se iCalcreator 2.30.10//
CALSCALE:GREGORIAN
METHOD:PUBLISH
UID:c348817a-2fdf-432c-acb3-2f923598f081
X-WR-CALDESC:
X-WR-RELCALID:9d713b859f89a4cb2d867c17bc354252
X-WR-TIMEZONE:America/Chicago
BEGIN:VTIMEZONE
TZID:America/Chicago
BEGIN:STANDARD
TZNAME:CST
DTSTART:20191103T020000
TZOFFSETFROM:-0500
TZOFFSETTO:-0600
RDATE:20201101T020000
RDATE:20211107T020000
END:STANDARD
BEGIN:DAYLIGHT
TZNAME:CDT
DTSTART:20200308T020000
TZOFFSETFROM:-0600
TZOFFSETTO:-0500
RDATE:20210314T020000
END:DAYLIGHT
END:VTIMEZONE
BEGIN:VEVENT
UID:5c1e1b8b-1b1a-4483-b4b4-964f977be939
DTSTAMP:20260422T161242Z
DESCRIPTION:
DTSTART;TZID=America/Chicago:20200601T000000
DTEND;TZID=America/Chicago:20200605T235900
LOCATION:
SUMMARY:June  1-5 Buy one\, get one free on all shoes at the Rack Clothing 
 Store
END:VEVENT
END:VCALENDAR
