BEGIN:VCALENDAR
VERSION:2.0
PRODID:-//tahlequahhabitat.org//NONSGML kigkonsult.se iCalcreator 2.30.10//
CALSCALE:GREGORIAN
METHOD:PUBLISH
UID:be91e7db-82a4-4c8b-87f1-70d085bbeedc
X-WR-CALDESC:
X-WR-RELCALID:96c18129acd107d219dd9d0c72cfb36e
X-WR-TIMEZONE:America/Chicago
BEGIN:VTIMEZONE
TZID:America/Chicago
BEGIN:STANDARD
TZNAME:CST
DTSTART:20191103T020000
TZOFFSETFROM:-0500
TZOFFSETTO:-0600
RDATE:20201101T020000
RDATE:20211107T020000
END:STANDARD
BEGIN:DAYLIGHT
TZNAME:CDT
DTSTART:20200308T020000
TZOFFSETFROM:-0600
TZOFFSETTO:-0500
RDATE:20210314T020000
END:DAYLIGHT
END:VTIMEZONE
BEGIN:VEVENT
UID:51cd1853-caf2-421b-8fbd-eb385771be45
DTSTAMP:20260422T135705Z
DESCRIPTION:
DTSTART;TZID=America/Chicago:20200713T000000
DTEND;TZID=America/Chicago:20200717T235900
LOCATION:
SUMMARY:1/2 Off Sale at the Rack Clothing Store\, July 13-17
END:VEVENT
END:VCALENDAR
