BEGIN:VCALENDAR
VERSION:2.0
PRODID:-//tahlequahhabitat.org//NONSGML kigkonsult.se iCalcreator 2.30.10//
CALSCALE:GREGORIAN
METHOD:PUBLISH
UID:ccf67379-803e-451b-b6f5-e87a2ae8a918
X-WR-CALDESC:
X-WR-RELCALID:e8d699dca408582f44221c592d002b21
X-WR-TIMEZONE:America/Chicago
BEGIN:VTIMEZONE
TZID:America/Chicago
BEGIN:STANDARD
TZNAME:CST
DTSTART:20191103T020000
TZOFFSETFROM:-0500
TZOFFSETTO:-0600
RDATE:20201101T020000
RDATE:20211107T020000
END:STANDARD
BEGIN:DAYLIGHT
TZNAME:CDT
DTSTART:20200308T020000
TZOFFSETFROM:-0600
TZOFFSETTO:-0500
RDATE:20210314T020000
END:DAYLIGHT
END:VTIMEZONE
BEGIN:VEVENT
UID:5a0485fa-488b-4df1-81f7-05d1a4694e6a
DTSTAMP:20260422T122005Z
DESCRIPTION:
DTSTART;TZID=America/Chicago:20200821T000000
DTEND;TZID=America/Chicago:20200821T235900
LOCATION:
SUMMARY:House Blessing for House #28
END:VEVENT
END:VCALENDAR
