BEGIN:VCALENDAR
VERSION:2.0
PRODID:-//tahlequahhabitat.org//NONSGML kigkonsult.se iCalcreator 2.30.10//
CALSCALE:GREGORIAN
METHOD:PUBLISH
UID:3b50c019-5f0a-4668-9574-10d527ea8f59
X-WR-CALDESC:
X-WR-RELCALID:81b85cc8e87248af29e0864a4b157289
X-WR-TIMEZONE:America/Chicago
BEGIN:VTIMEZONE
TZID:America/Chicago
BEGIN:STANDARD
TZNAME:CST
DTSTART:20191103T020000
TZOFFSETFROM:-0500
TZOFFSETTO:-0600
RDATE:20201101T020000
RDATE:20211107T020000
END:STANDARD
BEGIN:DAYLIGHT
TZNAME:CDT
DTSTART:20200308T020000
TZOFFSETFROM:-0600
TZOFFSETTO:-0500
RDATE:20210314T020000
RDATE:20220313T020000
END:DAYLIGHT
END:VTIMEZONE
BEGIN:VEVENT
UID:e217af05-fd0e-499e-893b-85ba5e503f8c
DTSTAMP:20260422T105907Z
DESCRIPTION:
DTSTART;TZID=America/Chicago:20200915T190000
DTEND;TZID=America/Chicago:20200915T200000
LOCATION:
SUMMARY:Free Financial Education Webinar
END:VEVENT
END:VCALENDAR
