BEGIN:VCALENDAR
VERSION:2.0
PRODID:-//tahlequahhabitat.org//NONSGML kigkonsult.se iCalcreator 2.30.10//
CALSCALE:GREGORIAN
METHOD:PUBLISH
UID:2c28e435-edcf-4e03-aa46-7aa300b29773
X-WR-CALDESC:
X-WR-RELCALID:9b7d38339ee852285de7a3f0a448080c
X-WR-TIMEZONE:America/Chicago
BEGIN:VTIMEZONE
TZID:America/Chicago
BEGIN:STANDARD
TZNAME:CST
DTSTART:20191103T020000
TZOFFSETFROM:-0500
TZOFFSETTO:-0600
RDATE:20201101T020000
RDATE:20211107T020000
END:STANDARD
BEGIN:DAYLIGHT
TZNAME:CDT
DTSTART:20200308T020000
TZOFFSETFROM:-0600
TZOFFSETTO:-0500
RDATE:20210314T020000
RDATE:20220313T020000
END:DAYLIGHT
END:VTIMEZONE
BEGIN:VEVENT
UID:2a18107f-055a-4d26-b487-6b3e8b224e53
DTSTAMP:20260422T105315Z
DESCRIPTION:
DTSTART;TZID=America/Chicago:20200930T190000
DTEND;TZID=America/Chicago:20200930T200000
LOCATION:
SUMMARY:Free Webinar: Credit Reports & Credit Scores
END:VEVENT
END:VCALENDAR
