BEGIN:VCALENDAR
VERSION:2.0
PRODID:-//tahlequahhabitat.org//NONSGML kigkonsult.se iCalcreator 2.30.10//
CALSCALE:GREGORIAN
METHOD:PUBLISH
UID:92d23d26-95e6-4df2-bd36-9f6d8b0a10e4
X-WR-CALDESC:The ReStore Home Improvement Store will be closed this week to
  move to its new location on Mud Valley Road.
X-WR-RELCALID:8bf780f8ccd4c7c6378ab670a65b761c
X-WR-TIMEZONE:America/Chicago
BEGIN:VTIMEZONE
TZID:America/Chicago
BEGIN:STANDARD
TZNAME:CST
DTSTART:20211107T020000
TZOFFSETFROM:-0500
TZOFFSETTO:-0600
RDATE:20221106T020000
END:STANDARD
BEGIN:DAYLIGHT
TZNAME:CDT
DTSTART:20210314T020000
TZOFFSETFROM:-0600
TZOFFSETTO:-0500
RDATE:20220313T020000
RDATE:20230312T020000
END:DAYLIGHT
END:VTIMEZONE
BEGIN:VEVENT
UID:cfdb8763-5dc4-4484-82ae-668971f2a6a1
DTSTAMP:20260425T143607Z
DESCRIPTION:The ReStore Home Improvement Store will be closed this week to 
 move to its new location on Mud Valley Road.
DTSTART;TZID=America/Chicago:20211122T000000
DTEND;TZID=America/Chicago:20211127T235900
LOCATION:
SUMMARY:ReStore Home Improvement Store Closed
END:VEVENT
END:VCALENDAR
