BEGIN:VCALENDAR
VERSION:2.0
PRODID:-//tahlequahhabitat.org//NONSGML kigkonsult.se iCalcreator 2.30.10//
CALSCALE:GREGORIAN
METHOD:PUBLISH
UID:2d7474ee-2f3b-4769-a2cf-09c2798d06e3
X-WR-CALDESC:
X-WR-RELCALID:7a7fecfd355acfcb9440e10d51cdfe02
X-WR-TIMEZONE:America/Chicago
BEGIN:VTIMEZONE
TZID:America/Chicago
BEGIN:STANDARD
TZNAME:CST
DTSTART:20231105T020000
TZOFFSETFROM:-0500
TZOFFSETTO:-0600
RDATE:20241103T020000
END:STANDARD
BEGIN:DAYLIGHT
TZNAME:CDT
DTSTART:20230312T020000
TZOFFSETFROM:-0600
TZOFFSETTO:-0500
RDATE:20240310T020000
RDATE:20250309T020000
END:DAYLIGHT
END:VTIMEZONE
BEGIN:VEVENT
UID:978e6a55-49dc-4c38-91ca-a0c3269997a8
DTSTAMP:20260422T225514Z
DESCRIPTION:
DTSTART;TZID=America/Chicago:20231127T050000
DTEND;TZID=America/Chicago:20231202T050001
LOCATION:
SUMMARY:ReStore Rack Sale 50% Off
END:VEVENT
END:VCALENDAR
