BEGIN:VCALENDAR
VERSION:2.0
PRODID:-//tahlequahhabitat.org//NONSGML kigkonsult.se iCalcreator 2.30.10//
CALSCALE:GREGORIAN
METHOD:PUBLISH
UID:ca98e8f0-1213-41b1-9430-f093d84c3aaa
X-WR-CALDESC:
X-WR-RELCALID:e9172a1080107d53e86f2486b0dcc3ea
X-WR-TIMEZONE:America/Chicago
BEGIN:VTIMEZONE
TZID:America/Chicago
BEGIN:STANDARD
TZNAME:CST
DTSTART:20231105T020000
TZOFFSETFROM:-0500
TZOFFSETTO:-0600
RDATE:20241103T020000
END:STANDARD
BEGIN:DAYLIGHT
TZNAME:CDT
DTSTART:20230312T020000
TZOFFSETFROM:-0600
TZOFFSETTO:-0500
RDATE:20240310T020000
RDATE:20250309T020000
END:DAYLIGHT
END:VTIMEZONE
BEGIN:VEVENT
UID:117f5150-ab8d-498f-bce5-d98e35ccb02f
DTSTAMP:20260422T225515Z
DESCRIPTION:
DTSTART;TZID=America/Chicago:20231217T150000
DTEND;TZID=America/Chicago:20231217T160000
LOCATION:9651 West 760 Road\, Hulbert\, OK 74441 US
SUMMARY:House #33 House Blessing
END:VEVENT
END:VCALENDAR
